BEGIN:VCALENDAR
VERSION:2.0
PRODID:-//The Heartland Lakes Community Calendar - ECPv6.3.7//NONSGML v1.0//EN
CALSCALE:GREGORIAN
METHOD:PUBLISH
X-ORIGINAL-URL:https://heartlandlakescommunitycalendar.com
X-WR-CALDESC:Events for The Heartland Lakes Community Calendar
REFRESH-INTERVAL;VALUE=DURATION:PT1H
X-Robots-Tag:noindex
X-PUBLISHED-TTL:PT1H
BEGIN:VTIMEZONE
TZID:America/New_York
BEGIN:DAYLIGHT
TZOFFSETFROM:-0500
TZOFFSETTO:-0400
TZNAME:EDT
DTSTART:20250309T070000
END:DAYLIGHT
BEGIN:STANDARD
TZOFFSETFROM:-0400
TZOFFSETTO:-0500
TZNAME:EST
DTSTART:20251102T060000
END:STANDARD
TZID:UTC
BEGIN:STANDARD
TZOFFSETFROM:+0000
TZOFFSETTO:+0000
TZNAME:UTC
DTSTART:20240101T000000
END:STANDARD
END:VTIMEZONE
BEGIN:VEVENT
DTSTART;TZID=America/New_York:20251211T190000
DTEND;TZID=America/New_York:20251211T220000
DTSTAMP:20260420T181635
CREATED:20251207T134525Z
LAST-MODIFIED:20251207T135024Z
UID:10011036-1765479600-1765490400@heartlandlakescommunitycalendar.com
SUMMARY:Christmas in the Round
DESCRIPTION:Join us for an intimate evening of songs and stories with Mark Schultz and Aaron Shust and special guests Todd Tilghman (season 18 winner of The Voice) and Presence Music.  Multiple ticket options are available at thriveproductionsgroup.com/events/.  Tickets will be $10.00 more the day of the concert.  Doors open at 6:15 pm.
URL:https://heartlandlakescommunitycalendar.com/index.php/event/christmas-in-the-round/
LOCATION:Faithbridge Church\, 1505 Park Ave.\, Park Rapids\, MN\, 56470\, United States
CATEGORIES:Religious,Social
ATTACH;FMTTYPE=image/png:https://heartlandlakescommunitycalendar.com/wp-content/uploads/2025/12/12.11.25_Concert_8.5X11.png
ORGANIZER;CN="Faithbridge Church":MAILTO:office@faithbridgepr.org
END:VEVENT
BEGIN:VEVENT
DTSTART;VALUE=DATE:20251014
DTEND;VALUE=DATE:20251015
DTSTAMP:20260420T181635
CREATED:20250909T194410Z
LAST-MODIFIED:20250918T165837Z
UID:10010941-1760400000-1760486399@heartlandlakescommunitycalendar.com
SUMMARY:4th Annual Dementia Conference
DESCRIPTION:Join us for an inspiring and thought-provoking Dementia Conference that blends creativity\, education\, and empathy to challenge stigma and reshape our understanding of memory loss. Featuring The Remember Project\, this event uses live theatre and community conversation to ignite dialogue and drive action. Through professional performances and guided discussions\, attendees will explore the power of storytelling to foster empathy and connection. \nNationally acclaimed speaker and comedic storyteller Amy Dee brings her unique blend of humor\, heart\, and insight to the stage. With a background in nursing\, stand-up comedy\, and business\, Amy delivers unforgettable stories and brain-based strategies that empower individuals to live and lead with greater purpose. \nThe conference also features a powerful Panel Discussion on “Living with Memory Loss\,” presented in collaboration with the Dementia Action Alliance and The Eden Alternative. Dive into the session “Re-thinking Memory Loss: Shifting Perspectives to Shape the Future\,” where participants will explore practical\, person-centered approaches to well-being. Key domains – identity\, connectedness\, meaning\, growth\, joy\, autonomy\, and security – will be unpacked to help guide more compassionate\, purpose-driven care and support. \nThis is more than a conference\, it’s a call to see memory loss through a new lens and move from awareness to meaningful change. \nRegister at https://chisjh.org/special-events/dementia-conference/
URL:https://heartlandlakescommunitycalendar.com/index.php/event/4th-annual-dementia-conference/
LOCATION:Faithbridge Church\, 1505 Park Ave.\, Park Rapids\, MN\, 56470\, United States
CATEGORIES:Education
ATTACH;FMTTYPE=application/pdf:https://heartlandlakescommunitycalendar.com/wp-content/uploads/2025/09/DFC-conference-Oct.-14-2025.pdf
ORGANIZER;CN="Living at Home":MAILTO:dfc@parkrapidslivingathome.org
END:VEVENT
BEGIN:VEVENT
DTSTART;TZID=UTC:20250506T090000
DTEND;TZID=UTC:20250506T110000
DTSTAMP:20260420T181635
CREATED:20250125T001802Z
LAST-MODIFIED:20250401T111105Z
UID:10006789-1746522000-1746529200@heartlandlakescommunitycalendar.com
SUMMARY:Park Rapids MOMCO
DESCRIPTION:Hey Mama! Looking for that Village everyone says it takes? You found us! Join MOMCA for encouraging fellowship and mentorship\, prayer and devotion\, brunch and coffee\, and so much more. Motherhood can be hard. But it doesn’t have to be.
URL:https://heartlandlakescommunitycalendar.com/index.php/event/park-rapids-momco/2025-05-06/
LOCATION:Faithbridge Church\, 1505 Park Ave.\, Park Rapids\, MN\, 56470\, United States
CATEGORIES:Social
ATTACH;FMTTYPE=application/pdf:https://heartlandlakescommunitycalendar.com/wp-content/uploads/2025/01/MomCo-2024-Schedule.pdf
END:VEVENT
BEGIN:VEVENT
DTSTART;TZID=UTC:20250415T090000
DTEND;TZID=UTC:20250415T110000
DTSTAMP:20260420T181635
CREATED:20250125T001927Z
LAST-MODIFIED:20250411T111230Z
UID:10006800-1744707600-1744714800@heartlandlakescommunitycalendar.com
SUMMARY:Park Rapids MOMCO
DESCRIPTION:Hey Mama! Looking for that Village everyone says it takes? You found us! Join MOMCA for encouraging fellowship and mentorship\, prayer and devotion\, brunch and coffee\, and so much more. Motherhood can be hard. But it doesn’t have to be.
URL:https://heartlandlakescommunitycalendar.com/index.php/event/park-rapids-momco-2/2025-04-15/
LOCATION:Faithbridge Church\, 1505 Park Ave.\, Park Rapids\, MN\, 56470\, United States
CATEGORIES:Social
ATTACH;FMTTYPE=application/pdf:https://heartlandlakescommunitycalendar.com/wp-content/uploads/2025/01/MomCo-2024-Schedule.pdf
END:VEVENT
BEGIN:VEVENT
DTSTART;TZID=UTC:20250401T090000
DTEND;TZID=UTC:20250401T110000
DTSTAMP:20260420T181635
CREATED:20250125T001802Z
LAST-MODIFIED:20250401T111105Z
UID:10006784-1743498000-1743505200@heartlandlakescommunitycalendar.com
SUMMARY:Park Rapids MOMCO
DESCRIPTION:Hey Mama! Looking for that Village everyone says it takes? You found us! Join MOMCA for encouraging fellowship and mentorship\, prayer and devotion\, brunch and coffee\, and so much more. Motherhood can be hard. But it doesn’t have to be.
URL:https://heartlandlakescommunitycalendar.com/index.php/event/park-rapids-momco/2025-04-01/
LOCATION:Faithbridge Church\, 1505 Park Ave.\, Park Rapids\, MN\, 56470\, United States
CATEGORIES:Social
ATTACH;FMTTYPE=application/pdf:https://heartlandlakescommunitycalendar.com/wp-content/uploads/2025/01/MomCo-2024-Schedule.pdf
END:VEVENT
BEGIN:VEVENT
DTSTART;TZID=UTC:20250318T090000
DTEND;TZID=UTC:20250318T110000
DTSTAMP:20260420T181635
CREATED:20250125T001927Z
LAST-MODIFIED:20250411T111230Z
UID:10006796-1742288400-1742295600@heartlandlakescommunitycalendar.com
SUMMARY:Park Rapids MOMCO
DESCRIPTION:Hey Mama! Looking for that Village everyone says it takes? You found us! Join MOMCA for encouraging fellowship and mentorship\, prayer and devotion\, brunch and coffee\, and so much more. Motherhood can be hard. But it doesn’t have to be.
URL:https://heartlandlakescommunitycalendar.com/index.php/event/park-rapids-momco-2/2025-03-18/
LOCATION:Faithbridge Church\, 1505 Park Ave.\, Park Rapids\, MN\, 56470\, United States
CATEGORIES:Social
ATTACH;FMTTYPE=application/pdf:https://heartlandlakescommunitycalendar.com/wp-content/uploads/2025/01/MomCo-2024-Schedule.pdf
END:VEVENT
BEGIN:VEVENT
DTSTART;TZID=UTC:20250312T093000
DTEND;TZID=UTC:20250312T113000
DTSTAMP:20260420T181635
CREATED:20240323T113955Z
LAST-MODIFIED:20240323T113955Z
UID:10000316-1741771800-1741779000@heartlandlakescommunitycalendar.com
SUMMARY:Free Senior Coffee Hour
DESCRIPTION:Living at Home of the Park Rapids Area invites you to join us for Free Senior Coffee Hour at Faithbridge Church; please enter through N1 door on northside of parking lot.
URL:https://heartlandlakescommunitycalendar.com/index.php/event/free-senior-coffee-hour/2025-03-12/
LOCATION:Faithbridge Church\, 1505 Park Ave.\, Park Rapids\, MN\, 56470\, United States
CATEGORIES:Social
ATTACH;FMTTYPE=image/png:https://heartlandlakescommunitycalendar.com/wp-content/uploads/2024/03/Senior-Coffee-Hour.png
ORGANIZER;CN="Living at Home":MAILTO:dfc@parkrapidslivingathome.org
END:VEVENT
BEGIN:VEVENT
DTSTART;TZID=UTC:20250305T093000
DTEND;TZID=UTC:20250305T113000
DTSTAMP:20260420T181635
CREATED:20240323T113955Z
LAST-MODIFIED:20240323T113955Z
UID:10000315-1741167000-1741174200@heartlandlakescommunitycalendar.com
SUMMARY:Free Senior Coffee Hour
DESCRIPTION:Living at Home of the Park Rapids Area invites you to join us for Free Senior Coffee Hour at Faithbridge Church; please enter through N1 door on northside of parking lot.
URL:https://heartlandlakescommunitycalendar.com/index.php/event/free-senior-coffee-hour/2025-03-05/
LOCATION:Faithbridge Church\, 1505 Park Ave.\, Park Rapids\, MN\, 56470\, United States
CATEGORIES:Social
ATTACH;FMTTYPE=image/png:https://heartlandlakescommunitycalendar.com/wp-content/uploads/2024/03/Senior-Coffee-Hour.png
ORGANIZER;CN="Living at Home":MAILTO:dfc@parkrapidslivingathome.org
END:VEVENT
BEGIN:VEVENT
DTSTART;TZID=UTC:20250304T090000
DTEND;TZID=UTC:20250304T110000
DTSTAMP:20260420T181635
CREATED:20250125T001802Z
LAST-MODIFIED:20250401T111105Z
UID:10006780-1741078800-1741086000@heartlandlakescommunitycalendar.com
SUMMARY:Park Rapids MOMCO
DESCRIPTION:Hey Mama! Looking for that Village everyone says it takes? You found us! Join MOMCA for encouraging fellowship and mentorship\, prayer and devotion\, brunch and coffee\, and so much more. Motherhood can be hard. But it doesn’t have to be.
URL:https://heartlandlakescommunitycalendar.com/index.php/event/park-rapids-momco/2025-03-04/
LOCATION:Faithbridge Church\, 1505 Park Ave.\, Park Rapids\, MN\, 56470\, United States
CATEGORIES:Social
ATTACH;FMTTYPE=application/pdf:https://heartlandlakescommunitycalendar.com/wp-content/uploads/2025/01/MomCo-2024-Schedule.pdf
END:VEVENT
BEGIN:VEVENT
DTSTART;TZID=UTC:20250226T093000
DTEND;TZID=UTC:20250226T113000
DTSTAMP:20260420T181635
CREATED:20240323T113955Z
LAST-MODIFIED:20240323T113955Z
UID:10000314-1740562200-1740569400@heartlandlakescommunitycalendar.com
SUMMARY:Free Senior Coffee Hour
DESCRIPTION:Living at Home of the Park Rapids Area invites you to join us for Free Senior Coffee Hour at Faithbridge Church; please enter through N1 door on northside of parking lot.
URL:https://heartlandlakescommunitycalendar.com/index.php/event/free-senior-coffee-hour/2025-02-26/
LOCATION:Faithbridge Church\, 1505 Park Ave.\, Park Rapids\, MN\, 56470\, United States
CATEGORIES:Social
ATTACH;FMTTYPE=image/png:https://heartlandlakescommunitycalendar.com/wp-content/uploads/2024/03/Senior-Coffee-Hour.png
ORGANIZER;CN="Living at Home":MAILTO:dfc@parkrapidslivingathome.org
END:VEVENT
BEGIN:VEVENT
DTSTART;TZID=UTC:20250219T093000
DTEND;TZID=UTC:20250219T113000
DTSTAMP:20260420T181635
CREATED:20240323T113955Z
LAST-MODIFIED:20240323T113955Z
UID:10000313-1739957400-1739964600@heartlandlakescommunitycalendar.com
SUMMARY:Free Senior Coffee Hour
DESCRIPTION:Living at Home of the Park Rapids Area invites you to join us for Free Senior Coffee Hour at Faithbridge Church; please enter through N1 door on northside of parking lot.
URL:https://heartlandlakescommunitycalendar.com/index.php/event/free-senior-coffee-hour/2025-02-19/
LOCATION:Faithbridge Church\, 1505 Park Ave.\, Park Rapids\, MN\, 56470\, United States
CATEGORIES:Social
ATTACH;FMTTYPE=image/png:https://heartlandlakescommunitycalendar.com/wp-content/uploads/2024/03/Senior-Coffee-Hour.png
ORGANIZER;CN="Living at Home":MAILTO:dfc@parkrapidslivingathome.org
END:VEVENT
BEGIN:VEVENT
DTSTART;TZID=UTC:20250218T090000
DTEND;TZID=UTC:20250218T110000
DTSTAMP:20260420T181635
CREATED:20250125T001927Z
LAST-MODIFIED:20250411T111230Z
UID:10006792-1739869200-1739876400@heartlandlakescommunitycalendar.com
SUMMARY:Park Rapids MOMCO
DESCRIPTION:Hey Mama! Looking for that Village everyone says it takes? You found us! Join MOMCA for encouraging fellowship and mentorship\, prayer and devotion\, brunch and coffee\, and so much more. Motherhood can be hard. But it doesn’t have to be.
URL:https://heartlandlakescommunitycalendar.com/index.php/event/park-rapids-momco-2/2025-02-18/
LOCATION:Faithbridge Church\, 1505 Park Ave.\, Park Rapids\, MN\, 56470\, United States
CATEGORIES:Social
ATTACH;FMTTYPE=application/pdf:https://heartlandlakescommunitycalendar.com/wp-content/uploads/2025/01/MomCo-2024-Schedule.pdf
END:VEVENT
BEGIN:VEVENT
DTSTART;TZID=UTC:20250212T093000
DTEND;TZID=UTC:20250212T113000
DTSTAMP:20260420T181635
CREATED:20240323T113955Z
LAST-MODIFIED:20240323T113955Z
UID:10000312-1739352600-1739359800@heartlandlakescommunitycalendar.com
SUMMARY:Free Senior Coffee Hour
DESCRIPTION:Living at Home of the Park Rapids Area invites you to join us for Free Senior Coffee Hour at Faithbridge Church; please enter through N1 door on northside of parking lot.
URL:https://heartlandlakescommunitycalendar.com/index.php/event/free-senior-coffee-hour/2025-02-12/
LOCATION:Faithbridge Church\, 1505 Park Ave.\, Park Rapids\, MN\, 56470\, United States
CATEGORIES:Social
ATTACH;FMTTYPE=image/png:https://heartlandlakescommunitycalendar.com/wp-content/uploads/2024/03/Senior-Coffee-Hour.png
ORGANIZER;CN="Living at Home":MAILTO:dfc@parkrapidslivingathome.org
END:VEVENT
BEGIN:VEVENT
DTSTART;TZID=UTC:20250205T093000
DTEND;TZID=UTC:20250205T113000
DTSTAMP:20260420T181635
CREATED:20240323T113955Z
LAST-MODIFIED:20240323T113955Z
UID:10000311-1738747800-1738755000@heartlandlakescommunitycalendar.com
SUMMARY:Free Senior Coffee Hour
DESCRIPTION:Living at Home of the Park Rapids Area invites you to join us for Free Senior Coffee Hour at Faithbridge Church; please enter through N1 door on northside of parking lot.
URL:https://heartlandlakescommunitycalendar.com/index.php/event/free-senior-coffee-hour/2025-02-05/
LOCATION:Faithbridge Church\, 1505 Park Ave.\, Park Rapids\, MN\, 56470\, United States
CATEGORIES:Social
ATTACH;FMTTYPE=image/png:https://heartlandlakescommunitycalendar.com/wp-content/uploads/2024/03/Senior-Coffee-Hour.png
ORGANIZER;CN="Living at Home":MAILTO:dfc@parkrapidslivingathome.org
END:VEVENT
BEGIN:VEVENT
DTSTART;TZID=UTC:20250204T090000
DTEND;TZID=UTC:20250204T110000
DTSTAMP:20260420T181635
CREATED:20250125T001802Z
LAST-MODIFIED:20250401T111105Z
UID:10006776-1738659600-1738666800@heartlandlakescommunitycalendar.com
SUMMARY:Park Rapids MOMCO
DESCRIPTION:Hey Mama! Looking for that Village everyone says it takes? You found us! Join MOMCA for encouraging fellowship and mentorship\, prayer and devotion\, brunch and coffee\, and so much more. Motherhood can be hard. But it doesn’t have to be.
URL:https://heartlandlakescommunitycalendar.com/index.php/event/park-rapids-momco/2025-02-04/
LOCATION:Faithbridge Church\, 1505 Park Ave.\, Park Rapids\, MN\, 56470\, United States
CATEGORIES:Social
ATTACH;FMTTYPE=application/pdf:https://heartlandlakescommunitycalendar.com/wp-content/uploads/2025/01/MomCo-2024-Schedule.pdf
END:VEVENT
BEGIN:VEVENT
DTSTART;TZID=UTC:20250129T093000
DTEND;TZID=UTC:20250129T113000
DTSTAMP:20260420T181635
CREATED:20240323T113955Z
LAST-MODIFIED:20240323T113955Z
UID:10000310-1738143000-1738150200@heartlandlakescommunitycalendar.com
SUMMARY:Free Senior Coffee Hour
DESCRIPTION:Living at Home of the Park Rapids Area invites you to join us for Free Senior Coffee Hour at Faithbridge Church; please enter through N1 door on northside of parking lot.
URL:https://heartlandlakescommunitycalendar.com/index.php/event/free-senior-coffee-hour/2025-01-29/
LOCATION:Faithbridge Church\, 1505 Park Ave.\, Park Rapids\, MN\, 56470\, United States
CATEGORIES:Social
ATTACH;FMTTYPE=image/png:https://heartlandlakescommunitycalendar.com/wp-content/uploads/2024/03/Senior-Coffee-Hour.png
ORGANIZER;CN="Living at Home":MAILTO:dfc@parkrapidslivingathome.org
END:VEVENT
BEGIN:VEVENT
DTSTART;TZID=UTC:20250122T093000
DTEND;TZID=UTC:20250122T113000
DTSTAMP:20260420T181635
CREATED:20240323T113955Z
LAST-MODIFIED:20240323T113955Z
UID:10000309-1737538200-1737545400@heartlandlakescommunitycalendar.com
SUMMARY:Free Senior Coffee Hour
DESCRIPTION:Living at Home of the Park Rapids Area invites you to join us for Free Senior Coffee Hour at Faithbridge Church; please enter through N1 door on northside of parking lot.
URL:https://heartlandlakescommunitycalendar.com/index.php/event/free-senior-coffee-hour/2025-01-22/
LOCATION:Faithbridge Church\, 1505 Park Ave.\, Park Rapids\, MN\, 56470\, United States
CATEGORIES:Social
ATTACH;FMTTYPE=image/png:https://heartlandlakescommunitycalendar.com/wp-content/uploads/2024/03/Senior-Coffee-Hour.png
ORGANIZER;CN="Living at Home":MAILTO:dfc@parkrapidslivingathome.org
END:VEVENT
BEGIN:VEVENT
DTSTART;TZID=UTC:20250115T093000
DTEND;TZID=UTC:20250115T113000
DTSTAMP:20260420T181635
CREATED:20240323T113955Z
LAST-MODIFIED:20240323T113955Z
UID:10000308-1736933400-1736940600@heartlandlakescommunitycalendar.com
SUMMARY:Free Senior Coffee Hour
DESCRIPTION:Living at Home of the Park Rapids Area invites you to join us for Free Senior Coffee Hour at Faithbridge Church; please enter through N1 door on northside of parking lot.
URL:https://heartlandlakescommunitycalendar.com/index.php/event/free-senior-coffee-hour/2025-01-15/
LOCATION:Faithbridge Church\, 1505 Park Ave.\, Park Rapids\, MN\, 56470\, United States
CATEGORIES:Social
ATTACH;FMTTYPE=image/png:https://heartlandlakescommunitycalendar.com/wp-content/uploads/2024/03/Senior-Coffee-Hour.png
ORGANIZER;CN="Living at Home":MAILTO:dfc@parkrapidslivingathome.org
END:VEVENT
BEGIN:VEVENT
DTSTART;TZID=UTC:20250108T093000
DTEND;TZID=UTC:20250108T113000
DTSTAMP:20260420T181635
CREATED:20240323T113955Z
LAST-MODIFIED:20240323T113955Z
UID:10000307-1736328600-1736335800@heartlandlakescommunitycalendar.com
SUMMARY:Free Senior Coffee Hour
DESCRIPTION:Living at Home of the Park Rapids Area invites you to join us for Free Senior Coffee Hour at Faithbridge Church; please enter through N1 door on northside of parking lot.
URL:https://heartlandlakescommunitycalendar.com/index.php/event/free-senior-coffee-hour/2025-01-08/
LOCATION:Faithbridge Church\, 1505 Park Ave.\, Park Rapids\, MN\, 56470\, United States
CATEGORIES:Social
ATTACH;FMTTYPE=image/png:https://heartlandlakescommunitycalendar.com/wp-content/uploads/2024/03/Senior-Coffee-Hour.png
ORGANIZER;CN="Living at Home":MAILTO:dfc@parkrapidslivingathome.org
END:VEVENT
BEGIN:VEVENT
DTSTART;TZID=UTC:20241218T093000
DTEND;TZID=UTC:20241218T113000
DTSTAMP:20260420T181635
CREATED:20240323T113955Z
LAST-MODIFIED:20240323T113955Z
UID:10000304-1734514200-1734521400@heartlandlakescommunitycalendar.com
SUMMARY:Free Senior Coffee Hour
DESCRIPTION:Living at Home of the Park Rapids Area invites you to join us for Free Senior Coffee Hour at Faithbridge Church; please enter through N1 door on northside of parking lot.
URL:https://heartlandlakescommunitycalendar.com/index.php/event/free-senior-coffee-hour/2024-12-18/
LOCATION:Faithbridge Church\, 1505 Park Ave.\, Park Rapids\, MN\, 56470\, United States
CATEGORIES:Social
ATTACH;FMTTYPE=image/png:https://heartlandlakescommunitycalendar.com/wp-content/uploads/2024/03/Senior-Coffee-Hour.png
ORGANIZER;CN="Living at Home":MAILTO:dfc@parkrapidslivingathome.org
END:VEVENT
BEGIN:VEVENT
DTSTART;TZID=UTC:20241211T093000
DTEND;TZID=UTC:20241211T113000
DTSTAMP:20260420T181635
CREATED:20240323T113955Z
LAST-MODIFIED:20240323T113955Z
UID:10000303-1733909400-1733916600@heartlandlakescommunitycalendar.com
SUMMARY:Free Senior Coffee Hour
DESCRIPTION:Living at Home of the Park Rapids Area invites you to join us for Free Senior Coffee Hour at Faithbridge Church; please enter through N1 door on northside of parking lot.
URL:https://heartlandlakescommunitycalendar.com/index.php/event/free-senior-coffee-hour/2024-12-11/
LOCATION:Faithbridge Church\, 1505 Park Ave.\, Park Rapids\, MN\, 56470\, United States
CATEGORIES:Social
ATTACH;FMTTYPE=image/png:https://heartlandlakescommunitycalendar.com/wp-content/uploads/2024/03/Senior-Coffee-Hour.png
ORGANIZER;CN="Living at Home":MAILTO:dfc@parkrapidslivingathome.org
END:VEVENT
BEGIN:VEVENT
DTSTART;TZID=UTC:20241204T093000
DTEND;TZID=UTC:20241204T113000
DTSTAMP:20260420T181635
CREATED:20240323T113955Z
LAST-MODIFIED:20240323T113955Z
UID:10000302-1733304600-1733311800@heartlandlakescommunitycalendar.com
SUMMARY:Free Senior Coffee Hour
DESCRIPTION:Living at Home of the Park Rapids Area invites you to join us for Free Senior Coffee Hour at Faithbridge Church; please enter through N1 door on northside of parking lot.
URL:https://heartlandlakescommunitycalendar.com/index.php/event/free-senior-coffee-hour/2024-12-04/
LOCATION:Faithbridge Church\, 1505 Park Ave.\, Park Rapids\, MN\, 56470\, United States
CATEGORIES:Social
ATTACH;FMTTYPE=image/png:https://heartlandlakescommunitycalendar.com/wp-content/uploads/2024/03/Senior-Coffee-Hour.png
ORGANIZER;CN="Living at Home":MAILTO:dfc@parkrapidslivingathome.org
END:VEVENT
BEGIN:VEVENT
DTSTART;TZID=UTC:20241127T093000
DTEND;TZID=UTC:20241127T113000
DTSTAMP:20260420T181635
CREATED:20240323T113955Z
LAST-MODIFIED:20240323T113955Z
UID:10000301-1732699800-1732707000@heartlandlakescommunitycalendar.com
SUMMARY:Free Senior Coffee Hour
DESCRIPTION:Living at Home of the Park Rapids Area invites you to join us for Free Senior Coffee Hour at Faithbridge Church; please enter through N1 door on northside of parking lot.
URL:https://heartlandlakescommunitycalendar.com/index.php/event/free-senior-coffee-hour/2024-11-27/
LOCATION:Faithbridge Church\, 1505 Park Ave.\, Park Rapids\, MN\, 56470\, United States
CATEGORIES:Social
ATTACH;FMTTYPE=image/png:https://heartlandlakescommunitycalendar.com/wp-content/uploads/2024/03/Senior-Coffee-Hour.png
ORGANIZER;CN="Living at Home":MAILTO:dfc@parkrapidslivingathome.org
END:VEVENT
BEGIN:VEVENT
DTSTART;TZID=UTC:20241120T093000
DTEND;TZID=UTC:20241120T113000
DTSTAMP:20260420T181635
CREATED:20240323T113955Z
LAST-MODIFIED:20240323T113955Z
UID:10000300-1732095000-1732102200@heartlandlakescommunitycalendar.com
SUMMARY:Free Senior Coffee Hour
DESCRIPTION:Living at Home of the Park Rapids Area invites you to join us for Free Senior Coffee Hour at Faithbridge Church; please enter through N1 door on northside of parking lot.
URL:https://heartlandlakescommunitycalendar.com/index.php/event/free-senior-coffee-hour/2024-11-20/
LOCATION:Faithbridge Church\, 1505 Park Ave.\, Park Rapids\, MN\, 56470\, United States
CATEGORIES:Social
ATTACH;FMTTYPE=image/png:https://heartlandlakescommunitycalendar.com/wp-content/uploads/2024/03/Senior-Coffee-Hour.png
ORGANIZER;CN="Living at Home":MAILTO:dfc@parkrapidslivingathome.org
END:VEVENT
BEGIN:VEVENT
DTSTART;TZID=UTC:20241113T093000
DTEND;TZID=UTC:20241113T113000
DTSTAMP:20260420T181635
CREATED:20240323T113955Z
LAST-MODIFIED:20240323T113955Z
UID:10000299-1731490200-1731497400@heartlandlakescommunitycalendar.com
SUMMARY:Free Senior Coffee Hour
DESCRIPTION:Living at Home of the Park Rapids Area invites you to join us for Free Senior Coffee Hour at Faithbridge Church; please enter through N1 door on northside of parking lot.
URL:https://heartlandlakescommunitycalendar.com/index.php/event/free-senior-coffee-hour/2024-11-13/
LOCATION:Faithbridge Church\, 1505 Park Ave.\, Park Rapids\, MN\, 56470\, United States
CATEGORIES:Social
ATTACH;FMTTYPE=image/png:https://heartlandlakescommunitycalendar.com/wp-content/uploads/2024/03/Senior-Coffee-Hour.png
ORGANIZER;CN="Living at Home":MAILTO:dfc@parkrapidslivingathome.org
END:VEVENT
BEGIN:VEVENT
DTSTART;TZID=UTC:20241106T093000
DTEND;TZID=UTC:20241106T113000
DTSTAMP:20260420T181635
CREATED:20240323T113955Z
LAST-MODIFIED:20240323T113955Z
UID:10000298-1730885400-1730892600@heartlandlakescommunitycalendar.com
SUMMARY:Free Senior Coffee Hour
DESCRIPTION:Living at Home of the Park Rapids Area invites you to join us for Free Senior Coffee Hour at Faithbridge Church; please enter through N1 door on northside of parking lot.
URL:https://heartlandlakescommunitycalendar.com/index.php/event/free-senior-coffee-hour/2024-11-06/
LOCATION:Faithbridge Church\, 1505 Park Ave.\, Park Rapids\, MN\, 56470\, United States
CATEGORIES:Social
ATTACH;FMTTYPE=image/png:https://heartlandlakescommunitycalendar.com/wp-content/uploads/2024/03/Senior-Coffee-Hour.png
ORGANIZER;CN="Living at Home":MAILTO:dfc@parkrapidslivingathome.org
END:VEVENT
BEGIN:VEVENT
DTSTART;TZID=UTC:20241030T093000
DTEND;TZID=UTC:20241030T113000
DTSTAMP:20260420T181635
CREATED:20240323T113955Z
LAST-MODIFIED:20240323T113955Z
UID:10000297-1730280600-1730287800@heartlandlakescommunitycalendar.com
SUMMARY:Free Senior Coffee Hour
DESCRIPTION:Living at Home of the Park Rapids Area invites you to join us for Free Senior Coffee Hour at Faithbridge Church; please enter through N1 door on northside of parking lot.
URL:https://heartlandlakescommunitycalendar.com/index.php/event/free-senior-coffee-hour/2024-10-30/
LOCATION:Faithbridge Church\, 1505 Park Ave.\, Park Rapids\, MN\, 56470\, United States
CATEGORIES:Social
ATTACH;FMTTYPE=image/png:https://heartlandlakescommunitycalendar.com/wp-content/uploads/2024/03/Senior-Coffee-Hour.png
ORGANIZER;CN="Living at Home":MAILTO:dfc@parkrapidslivingathome.org
END:VEVENT
BEGIN:VEVENT
DTSTART;TZID=UTC:20241023T093000
DTEND;TZID=UTC:20241023T113000
DTSTAMP:20260420T181635
CREATED:20240323T113955Z
LAST-MODIFIED:20240323T113955Z
UID:10000296-1729675800-1729683000@heartlandlakescommunitycalendar.com
SUMMARY:Free Senior Coffee Hour
DESCRIPTION:Living at Home of the Park Rapids Area invites you to join us for Free Senior Coffee Hour at Faithbridge Church; please enter through N1 door on northside of parking lot.
URL:https://heartlandlakescommunitycalendar.com/index.php/event/free-senior-coffee-hour/2024-10-23/
LOCATION:Faithbridge Church\, 1505 Park Ave.\, Park Rapids\, MN\, 56470\, United States
CATEGORIES:Social
ATTACH;FMTTYPE=image/png:https://heartlandlakescommunitycalendar.com/wp-content/uploads/2024/03/Senior-Coffee-Hour.png
ORGANIZER;CN="Living at Home":MAILTO:dfc@parkrapidslivingathome.org
END:VEVENT
BEGIN:VEVENT
DTSTART;TZID=UTC:20241016T093000
DTEND;TZID=UTC:20241016T113000
DTSTAMP:20260420T181635
CREATED:20240323T113955Z
LAST-MODIFIED:20240323T113955Z
UID:10000295-1729071000-1729078200@heartlandlakescommunitycalendar.com
SUMMARY:Free Senior Coffee Hour
DESCRIPTION:Living at Home of the Park Rapids Area invites you to join us for Free Senior Coffee Hour at Faithbridge Church; please enter through N1 door on northside of parking lot.
URL:https://heartlandlakescommunitycalendar.com/index.php/event/free-senior-coffee-hour/2024-10-16/
LOCATION:Faithbridge Church\, 1505 Park Ave.\, Park Rapids\, MN\, 56470\, United States
CATEGORIES:Social
ATTACH;FMTTYPE=image/png:https://heartlandlakescommunitycalendar.com/wp-content/uploads/2024/03/Senior-Coffee-Hour.png
ORGANIZER;CN="Living at Home":MAILTO:dfc@parkrapidslivingathome.org
END:VEVENT
BEGIN:VEVENT
DTSTART;TZID=UTC:20241009T093000
DTEND;TZID=UTC:20241009T113000
DTSTAMP:20260420T181635
CREATED:20240323T113955Z
LAST-MODIFIED:20240323T113955Z
UID:10000294-1728466200-1728473400@heartlandlakescommunitycalendar.com
SUMMARY:Free Senior Coffee Hour
DESCRIPTION:Living at Home of the Park Rapids Area invites you to join us for Free Senior Coffee Hour at Faithbridge Church; please enter through N1 door on northside of parking lot.
URL:https://heartlandlakescommunitycalendar.com/index.php/event/free-senior-coffee-hour/2024-10-09/
LOCATION:Faithbridge Church\, 1505 Park Ave.\, Park Rapids\, MN\, 56470\, United States
CATEGORIES:Social
ATTACH;FMTTYPE=image/png:https://heartlandlakescommunitycalendar.com/wp-content/uploads/2024/03/Senior-Coffee-Hour.png
ORGANIZER;CN="Living at Home":MAILTO:dfc@parkrapidslivingathome.org
END:VEVENT
END:VCALENDAR