BEGIN:VCALENDAR
VERSION:2.0
PRODID:-//The Heartland Lakes Community Calendar - ECPv6.3.7//NONSGML v1.0//EN
CALSCALE:GREGORIAN
METHOD:PUBLISH
X-ORIGINAL-URL:https://heartlandlakescommunitycalendar.com
X-WR-CALDESC:Events for The Heartland Lakes Community Calendar
REFRESH-INTERVAL;VALUE=DURATION:PT1H
X-Robots-Tag:noindex
X-PUBLISHED-TTL:PT1H
BEGIN:VTIMEZONE
TZID:UTC
BEGIN:STANDARD
TZOFFSETFROM:+0000
TZOFFSETTO:+0000
TZNAME:UTC
DTSTART:20250101T000000
END:STANDARD
TZID:America/New_York
BEGIN:DAYLIGHT
TZOFFSETFROM:-0500
TZOFFSETTO:-0400
TZNAME:EDT
DTSTART:20250309T070000
END:DAYLIGHT
BEGIN:STANDARD
TZOFFSETFROM:-0400
TZOFFSETTO:-0500
TZNAME:EST
DTSTART:20251102T060000
END:STANDARD
END:VTIMEZONE
BEGIN:VEVENT
DTSTART;TZID=UTC:20260418T080000
DTEND;TZID=UTC:20260418T093000
DTSTAMP:20260419T210236
CREATED:20250125T010551Z
LAST-MODIFIED:20250129T101004Z
UID:10006879-1776499200-1776504600@heartlandlakescommunitycalendar.com
SUMMARY:Menahga Ruby's Pantry Distribution Day
DESCRIPTION:THIRD SATURDAY OF EVERY MONTH!\nShares will be sold no earlier than 7am\nLine up in the Menahga High School parking lot.\nThere is no income or residency requirement to attend Ruby’s Pantry. Anyone that eats is welcome to attend! Ruby’s Pantry is a great way to extend your monthly grocery budget.\nThere is a $25.00 per share donation. Please bring cash and have exact change for the site location. Please also make sure your trunks are free and clear so that you can quickly load directly into your trunks.\nHope to see you there
URL:https://heartlandlakescommunitycalendar.com/index.php/event/menahga-rubys-pantry-distribution-day/2026-04-18/
LOCATION:Menahga Public School\, 216 Aspen Ave S\, Menahga\, 56464\, United States
CATEGORIES:Social
ATTACH;FMTTYPE=image/webp:https://heartlandlakescommunitycalendar.com/wp-content/uploads/2025/01/IMG_4974-a5843cdb8c9007cbea8dff98081b0999.webp
END:VEVENT
BEGIN:VEVENT
DTSTART;TZID=UTC:20260321T080000
DTEND;TZID=UTC:20260321T093000
DTSTAMP:20260419T210236
CREATED:20250125T010551Z
LAST-MODIFIED:20250129T101004Z
UID:10006878-1774080000-1774085400@heartlandlakescommunitycalendar.com
SUMMARY:Menahga Ruby's Pantry Distribution Day
DESCRIPTION:THIRD SATURDAY OF EVERY MONTH!\nShares will be sold no earlier than 7am\nLine up in the Menahga High School parking lot.\nThere is no income or residency requirement to attend Ruby’s Pantry. Anyone that eats is welcome to attend! Ruby’s Pantry is a great way to extend your monthly grocery budget.\nThere is a $25.00 per share donation. Please bring cash and have exact change for the site location. Please also make sure your trunks are free and clear so that you can quickly load directly into your trunks.\nHope to see you there
URL:https://heartlandlakescommunitycalendar.com/index.php/event/menahga-rubys-pantry-distribution-day/2026-03-21/
LOCATION:Menahga Public School\, 216 Aspen Ave S\, Menahga\, 56464\, United States
CATEGORIES:Social
ATTACH;FMTTYPE=image/webp:https://heartlandlakescommunitycalendar.com/wp-content/uploads/2025/01/IMG_4974-a5843cdb8c9007cbea8dff98081b0999.webp
END:VEVENT
BEGIN:VEVENT
DTSTART;TZID=UTC:20260221T080000
DTEND;TZID=UTC:20260221T093000
DTSTAMP:20260419T210236
CREATED:20250125T010551Z
LAST-MODIFIED:20250129T101004Z
UID:10006877-1771660800-1771666200@heartlandlakescommunitycalendar.com
SUMMARY:Menahga Ruby's Pantry Distribution Day
DESCRIPTION:THIRD SATURDAY OF EVERY MONTH!\nShares will be sold no earlier than 7am\nLine up in the Menahga High School parking lot.\nThere is no income or residency requirement to attend Ruby’s Pantry. Anyone that eats is welcome to attend! Ruby’s Pantry is a great way to extend your monthly grocery budget.\nThere is a $25.00 per share donation. Please bring cash and have exact change for the site location. Please also make sure your trunks are free and clear so that you can quickly load directly into your trunks.\nHope to see you there
URL:https://heartlandlakescommunitycalendar.com/index.php/event/menahga-rubys-pantry-distribution-day/2026-02-21/
LOCATION:Menahga Public School\, 216 Aspen Ave S\, Menahga\, 56464\, United States
CATEGORIES:Social
ATTACH;FMTTYPE=image/webp:https://heartlandlakescommunitycalendar.com/wp-content/uploads/2025/01/IMG_4974-a5843cdb8c9007cbea8dff98081b0999.webp
END:VEVENT
BEGIN:VEVENT
DTSTART;TZID=UTC:20260117T080000
DTEND;TZID=UTC:20260117T093000
DTSTAMP:20260419T210236
CREATED:20250125T010551Z
LAST-MODIFIED:20250129T101004Z
UID:10006876-1768636800-1768642200@heartlandlakescommunitycalendar.com
SUMMARY:Menahga Ruby's Pantry Distribution Day
DESCRIPTION:THIRD SATURDAY OF EVERY MONTH!\nShares will be sold no earlier than 7am\nLine up in the Menahga High School parking lot.\nThere is no income or residency requirement to attend Ruby’s Pantry. Anyone that eats is welcome to attend! Ruby’s Pantry is a great way to extend your monthly grocery budget.\nThere is a $25.00 per share donation. Please bring cash and have exact change for the site location. Please also make sure your trunks are free and clear so that you can quickly load directly into your trunks.\nHope to see you there
URL:https://heartlandlakescommunitycalendar.com/index.php/event/menahga-rubys-pantry-distribution-day/2026-01-17/
LOCATION:Menahga Public School\, 216 Aspen Ave S\, Menahga\, 56464\, United States
CATEGORIES:Social
ATTACH;FMTTYPE=image/webp:https://heartlandlakescommunitycalendar.com/wp-content/uploads/2025/01/IMG_4974-a5843cdb8c9007cbea8dff98081b0999.webp
END:VEVENT
BEGIN:VEVENT
DTSTART;TZID=UTC:20251220T080000
DTEND;TZID=UTC:20251220T093000
DTSTAMP:20260419T210236
CREATED:20250125T010551Z
LAST-MODIFIED:20250129T101004Z
UID:10006875-1766217600-1766223000@heartlandlakescommunitycalendar.com
SUMMARY:Menahga Ruby's Pantry Distribution Day
DESCRIPTION:THIRD SATURDAY OF EVERY MONTH!\nShares will be sold no earlier than 7am\nLine up in the Menahga High School parking lot.\nThere is no income or residency requirement to attend Ruby’s Pantry. Anyone that eats is welcome to attend! Ruby’s Pantry is a great way to extend your monthly grocery budget.\nThere is a $25.00 per share donation. Please bring cash and have exact change for the site location. Please also make sure your trunks are free and clear so that you can quickly load directly into your trunks.\nHope to see you there
URL:https://heartlandlakescommunitycalendar.com/index.php/event/menahga-rubys-pantry-distribution-day/2025-12-20/
LOCATION:Menahga Public School\, 216 Aspen Ave S\, Menahga\, 56464\, United States
CATEGORIES:Social
ATTACH;FMTTYPE=image/webp:https://heartlandlakescommunitycalendar.com/wp-content/uploads/2025/01/IMG_4974-a5843cdb8c9007cbea8dff98081b0999.webp
END:VEVENT
BEGIN:VEVENT
DTSTART;TZID=UTC:20251115T080000
DTEND;TZID=UTC:20251115T093000
DTSTAMP:20260419T210236
CREATED:20250125T010551Z
LAST-MODIFIED:20250129T101004Z
UID:10006874-1763193600-1763199000@heartlandlakescommunitycalendar.com
SUMMARY:Menahga Ruby's Pantry Distribution Day
DESCRIPTION:THIRD SATURDAY OF EVERY MONTH!\nShares will be sold no earlier than 7am\nLine up in the Menahga High School parking lot.\nThere is no income or residency requirement to attend Ruby’s Pantry. Anyone that eats is welcome to attend! Ruby’s Pantry is a great way to extend your monthly grocery budget.\nThere is a $25.00 per share donation. Please bring cash and have exact change for the site location. Please also make sure your trunks are free and clear so that you can quickly load directly into your trunks.\nHope to see you there
URL:https://heartlandlakescommunitycalendar.com/index.php/event/menahga-rubys-pantry-distribution-day/2025-11-15/
LOCATION:Menahga Public School\, 216 Aspen Ave S\, Menahga\, 56464\, United States
CATEGORIES:Social
ATTACH;FMTTYPE=image/webp:https://heartlandlakescommunitycalendar.com/wp-content/uploads/2025/01/IMG_4974-a5843cdb8c9007cbea8dff98081b0999.webp
END:VEVENT
BEGIN:VEVENT
DTSTART;TZID=UTC:20251018T080000
DTEND;TZID=UTC:20251018T093000
DTSTAMP:20260419T210236
CREATED:20250125T010551Z
LAST-MODIFIED:20250129T101004Z
UID:10006873-1760774400-1760779800@heartlandlakescommunitycalendar.com
SUMMARY:Menahga Ruby's Pantry Distribution Day
DESCRIPTION:THIRD SATURDAY OF EVERY MONTH!\nShares will be sold no earlier than 7am\nLine up in the Menahga High School parking lot.\nThere is no income or residency requirement to attend Ruby’s Pantry. Anyone that eats is welcome to attend! Ruby’s Pantry is a great way to extend your monthly grocery budget.\nThere is a $25.00 per share donation. Please bring cash and have exact change for the site location. Please also make sure your trunks are free and clear so that you can quickly load directly into your trunks.\nHope to see you there
URL:https://heartlandlakescommunitycalendar.com/index.php/event/menahga-rubys-pantry-distribution-day/2025-10-18/
LOCATION:Menahga Public School\, 216 Aspen Ave S\, Menahga\, 56464\, United States
CATEGORIES:Social
ATTACH;FMTTYPE=image/webp:https://heartlandlakescommunitycalendar.com/wp-content/uploads/2025/01/IMG_4974-a5843cdb8c9007cbea8dff98081b0999.webp
END:VEVENT
BEGIN:VEVENT
DTSTART;TZID=UTC:20250920T080000
DTEND;TZID=UTC:20250920T093000
DTSTAMP:20260419T210236
CREATED:20250125T010551Z
LAST-MODIFIED:20250129T101004Z
UID:10006872-1758355200-1758360600@heartlandlakescommunitycalendar.com
SUMMARY:Menahga Ruby's Pantry Distribution Day
DESCRIPTION:THIRD SATURDAY OF EVERY MONTH!\nShares will be sold no earlier than 7am\nLine up in the Menahga High School parking lot.\nThere is no income or residency requirement to attend Ruby’s Pantry. Anyone that eats is welcome to attend! Ruby’s Pantry is a great way to extend your monthly grocery budget.\nThere is a $25.00 per share donation. Please bring cash and have exact change for the site location. Please also make sure your trunks are free and clear so that you can quickly load directly into your trunks.\nHope to see you there
URL:https://heartlandlakescommunitycalendar.com/index.php/event/menahga-rubys-pantry-distribution-day/2025-09-20/
LOCATION:Menahga Public School\, 216 Aspen Ave S\, Menahga\, 56464\, United States
CATEGORIES:Social
ATTACH;FMTTYPE=image/webp:https://heartlandlakescommunitycalendar.com/wp-content/uploads/2025/01/IMG_4974-a5843cdb8c9007cbea8dff98081b0999.webp
END:VEVENT
BEGIN:VEVENT
DTSTART;TZID=UTC:20250816T080000
DTEND;TZID=UTC:20250816T093000
DTSTAMP:20260419T210236
CREATED:20250125T010551Z
LAST-MODIFIED:20250129T101004Z
UID:10006871-1755331200-1755336600@heartlandlakescommunitycalendar.com
SUMMARY:Menahga Ruby's Pantry Distribution Day
DESCRIPTION:THIRD SATURDAY OF EVERY MONTH!\nShares will be sold no earlier than 7am\nLine up in the Menahga High School parking lot.\nThere is no income or residency requirement to attend Ruby’s Pantry. Anyone that eats is welcome to attend! Ruby’s Pantry is a great way to extend your monthly grocery budget.\nThere is a $25.00 per share donation. Please bring cash and have exact change for the site location. Please also make sure your trunks are free and clear so that you can quickly load directly into your trunks.\nHope to see you there
URL:https://heartlandlakescommunitycalendar.com/index.php/event/menahga-rubys-pantry-distribution-day/2025-08-16/
LOCATION:Menahga Public School\, 216 Aspen Ave S\, Menahga\, 56464\, United States
CATEGORIES:Social
ATTACH;FMTTYPE=image/webp:https://heartlandlakescommunitycalendar.com/wp-content/uploads/2025/01/IMG_4974-a5843cdb8c9007cbea8dff98081b0999.webp
END:VEVENT
BEGIN:VEVENT
DTSTART;TZID=America/New_York:20250801T140000
DTEND;TZID=America/New_York:20250801T180000
DTSTAMP:20260419T210236
CREATED:20250722T172351Z
LAST-MODIFIED:20250722T172351Z
UID:10010290-1754056800-1754071200@heartlandlakescommunitycalendar.com
SUMMARY:Menahga Farmer's Market
DESCRIPTION:🌽🍓 Shop fresh\, shop local at the Menahga Farmers Market!Join us each week to find homegrown produce\, homemade goods\, baked treats\, and handcrafted items—all from your local neighbors.It’s the perfect place to connect with the community\, support small growers\, and bring home something special.
URL:https://heartlandlakescommunitycalendar.com/index.php/event/menahga-farmers-market/2025-08-01/
LOCATION:Menahga Public School\, 216 Aspen Ave S\, Menahga\, 56464\, United States
CATEGORIES:Craft,Shopping
ORGANIZER;CN="Menahga Civic & Commerce Association":MAILTO:andrea@ahgrafix.com
END:VEVENT
BEGIN:VEVENT
DTSTART;TZID=America/New_York:20250725T140000
DTEND;TZID=America/New_York:20250725T180000
DTSTAMP:20260419T210236
CREATED:20250722T172351Z
LAST-MODIFIED:20250722T172351Z
UID:10010289-1753452000-1753466400@heartlandlakescommunitycalendar.com
SUMMARY:Menahga Farmer's Market
DESCRIPTION:🌽🍓 Shop fresh\, shop local at the Menahga Farmers Market!Join us each week to find homegrown produce\, homemade goods\, baked treats\, and handcrafted items—all from your local neighbors.It’s the perfect place to connect with the community\, support small growers\, and bring home something special.
URL:https://heartlandlakescommunitycalendar.com/index.php/event/menahga-farmers-market/2025-07-25/
LOCATION:Menahga Public School\, 216 Aspen Ave S\, Menahga\, 56464\, United States
CATEGORIES:Craft,Shopping
ORGANIZER;CN="Menahga Civic & Commerce Association":MAILTO:andrea@ahgrafix.com
END:VEVENT
BEGIN:VEVENT
DTSTART;TZID=UTC:20250719T080000
DTEND;TZID=UTC:20250719T093000
DTSTAMP:20260419T210236
CREATED:20250125T010551Z
LAST-MODIFIED:20250129T101004Z
UID:10006870-1752912000-1752917400@heartlandlakescommunitycalendar.com
SUMMARY:Menahga Ruby's Pantry Distribution Day
DESCRIPTION:THIRD SATURDAY OF EVERY MONTH!\nShares will be sold no earlier than 7am\nLine up in the Menahga High School parking lot.\nThere is no income or residency requirement to attend Ruby’s Pantry. Anyone that eats is welcome to attend! Ruby’s Pantry is a great way to extend your monthly grocery budget.\nThere is a $25.00 per share donation. Please bring cash and have exact change for the site location. Please also make sure your trunks are free and clear so that you can quickly load directly into your trunks.\nHope to see you there
URL:https://heartlandlakescommunitycalendar.com/index.php/event/menahga-rubys-pantry-distribution-day/2025-07-19/
LOCATION:Menahga Public School\, 216 Aspen Ave S\, Menahga\, 56464\, United States
CATEGORIES:Social
ATTACH;FMTTYPE=image/webp:https://heartlandlakescommunitycalendar.com/wp-content/uploads/2025/01/IMG_4974-a5843cdb8c9007cbea8dff98081b0999.webp
END:VEVENT
BEGIN:VEVENT
DTSTART;TZID=America/New_York:20250718T140000
DTEND;TZID=America/New_York:20250718T180000
DTSTAMP:20260419T210236
CREATED:20250722T172351Z
LAST-MODIFIED:20250722T172351Z
UID:10010288-1752847200-1752861600@heartlandlakescommunitycalendar.com
SUMMARY:Menahga Farmer's Market
DESCRIPTION:🌽🍓 Shop fresh\, shop local at the Menahga Farmers Market!Join us each week to find homegrown produce\, homemade goods\, baked treats\, and handcrafted items—all from your local neighbors.It’s the perfect place to connect with the community\, support small growers\, and bring home something special.
URL:https://heartlandlakescommunitycalendar.com/index.php/event/menahga-farmers-market/2025-07-18/
LOCATION:Menahga Public School\, 216 Aspen Ave S\, Menahga\, 56464\, United States
CATEGORIES:Craft,Shopping
ORGANIZER;CN="Menahga Civic & Commerce Association":MAILTO:andrea@ahgrafix.com
END:VEVENT
BEGIN:VEVENT
DTSTART;TZID=America/New_York:20250711T140000
DTEND;TZID=America/New_York:20250711T180000
DTSTAMP:20260419T210236
CREATED:20250722T172351Z
LAST-MODIFIED:20250722T172351Z
UID:10010287-1752242400-1752256800@heartlandlakescommunitycalendar.com
SUMMARY:Menahga Farmer's Market
DESCRIPTION:🌽🍓 Shop fresh\, shop local at the Menahga Farmers Market!Join us each week to find homegrown produce\, homemade goods\, baked treats\, and handcrafted items—all from your local neighbors.It’s the perfect place to connect with the community\, support small growers\, and bring home something special.
URL:https://heartlandlakescommunitycalendar.com/index.php/event/menahga-farmers-market/2025-07-11/
LOCATION:Menahga Public School\, 216 Aspen Ave S\, Menahga\, 56464\, United States
CATEGORIES:Craft,Shopping
ORGANIZER;CN="Menahga Civic & Commerce Association":MAILTO:andrea@ahgrafix.com
END:VEVENT
BEGIN:VEVENT
DTSTART;TZID=America/New_York:20250704T140000
DTEND;TZID=America/New_York:20250704T180000
DTSTAMP:20260419T210236
CREATED:20250722T172351Z
LAST-MODIFIED:20250722T172351Z
UID:10010286-1751637600-1751652000@heartlandlakescommunitycalendar.com
SUMMARY:Menahga Farmer's Market
DESCRIPTION:🌽🍓 Shop fresh\, shop local at the Menahga Farmers Market!Join us each week to find homegrown produce\, homemade goods\, baked treats\, and handcrafted items—all from your local neighbors.It’s the perfect place to connect with the community\, support small growers\, and bring home something special.
URL:https://heartlandlakescommunitycalendar.com/index.php/event/menahga-farmers-market/2025-07-04/
LOCATION:Menahga Public School\, 216 Aspen Ave S\, Menahga\, 56464\, United States
CATEGORIES:Craft,Shopping
ORGANIZER;CN="Menahga Civic & Commerce Association":MAILTO:andrea@ahgrafix.com
END:VEVENT
BEGIN:VEVENT
DTSTART;TZID=America/New_York:20250627T140000
DTEND;TZID=America/New_York:20250627T180000
DTSTAMP:20260419T210236
CREATED:20250722T172351Z
LAST-MODIFIED:20250722T172351Z
UID:10010285-1751032800-1751047200@heartlandlakescommunitycalendar.com
SUMMARY:Menahga Farmer's Market
DESCRIPTION:🌽🍓 Shop fresh\, shop local at the Menahga Farmers Market!Join us each week to find homegrown produce\, homemade goods\, baked treats\, and handcrafted items—all from your local neighbors.It’s the perfect place to connect with the community\, support small growers\, and bring home something special.
URL:https://heartlandlakescommunitycalendar.com/index.php/event/menahga-farmers-market/2025-06-27/
LOCATION:Menahga Public School\, 216 Aspen Ave S\, Menahga\, 56464\, United States
CATEGORIES:Craft,Shopping
ORGANIZER;CN="Menahga Civic & Commerce Association":MAILTO:andrea@ahgrafix.com
END:VEVENT
BEGIN:VEVENT
DTSTART;TZID=UTC:20250621T080000
DTEND;TZID=UTC:20250621T093000
DTSTAMP:20260419T210236
CREATED:20250125T010551Z
LAST-MODIFIED:20250129T101004Z
UID:10006869-1750492800-1750498200@heartlandlakescommunitycalendar.com
SUMMARY:Menahga Ruby's Pantry Distribution Day
DESCRIPTION:THIRD SATURDAY OF EVERY MONTH!\nShares will be sold no earlier than 7am\nLine up in the Menahga High School parking lot.\nThere is no income or residency requirement to attend Ruby’s Pantry. Anyone that eats is welcome to attend! Ruby’s Pantry is a great way to extend your monthly grocery budget.\nThere is a $25.00 per share donation. Please bring cash and have exact change for the site location. Please also make sure your trunks are free and clear so that you can quickly load directly into your trunks.\nHope to see you there
URL:https://heartlandlakescommunitycalendar.com/index.php/event/menahga-rubys-pantry-distribution-day/2025-06-21/
LOCATION:Menahga Public School\, 216 Aspen Ave S\, Menahga\, 56464\, United States
CATEGORIES:Social
ATTACH;FMTTYPE=image/webp:https://heartlandlakescommunitycalendar.com/wp-content/uploads/2025/01/IMG_4974-a5843cdb8c9007cbea8dff98081b0999.webp
END:VEVENT
BEGIN:VEVENT
DTSTART;TZID=UTC:20250517T080000
DTEND;TZID=UTC:20250517T093000
DTSTAMP:20260419T210236
CREATED:20250125T010551Z
LAST-MODIFIED:20250129T101004Z
UID:10006868-1747468800-1747474200@heartlandlakescommunitycalendar.com
SUMMARY:Menahga Ruby's Pantry Distribution Day
DESCRIPTION:THIRD SATURDAY OF EVERY MONTH!\nShares will be sold no earlier than 7am\nLine up in the Menahga High School parking lot.\nThere is no income or residency requirement to attend Ruby’s Pantry. Anyone that eats is welcome to attend! Ruby’s Pantry is a great way to extend your monthly grocery budget.\nThere is a $25.00 per share donation. Please bring cash and have exact change for the site location. Please also make sure your trunks are free and clear so that you can quickly load directly into your trunks.\nHope to see you there
URL:https://heartlandlakescommunitycalendar.com/index.php/event/menahga-rubys-pantry-distribution-day/2025-05-17/
LOCATION:Menahga Public School\, 216 Aspen Ave S\, Menahga\, 56464\, United States
CATEGORIES:Social
ATTACH;FMTTYPE=image/webp:https://heartlandlakescommunitycalendar.com/wp-content/uploads/2025/01/IMG_4974-a5843cdb8c9007cbea8dff98081b0999.webp
END:VEVENT
BEGIN:VEVENT
DTSTART;TZID=UTC:20250419T080000
DTEND;TZID=UTC:20250419T093000
DTSTAMP:20260419T210236
CREATED:20250125T010551Z
LAST-MODIFIED:20250129T101004Z
UID:10006867-1745049600-1745055000@heartlandlakescommunitycalendar.com
SUMMARY:Menahga Ruby's Pantry Distribution Day
DESCRIPTION:THIRD SATURDAY OF EVERY MONTH!\nShares will be sold no earlier than 7am\nLine up in the Menahga High School parking lot.\nThere is no income or residency requirement to attend Ruby’s Pantry. Anyone that eats is welcome to attend! Ruby’s Pantry is a great way to extend your monthly grocery budget.\nThere is a $25.00 per share donation. Please bring cash and have exact change for the site location. Please also make sure your trunks are free and clear so that you can quickly load directly into your trunks.\nHope to see you there
URL:https://heartlandlakescommunitycalendar.com/index.php/event/menahga-rubys-pantry-distribution-day/2025-04-19/
LOCATION:Menahga Public School\, 216 Aspen Ave S\, Menahga\, 56464\, United States
CATEGORIES:Social
ATTACH;FMTTYPE=image/webp:https://heartlandlakescommunitycalendar.com/wp-content/uploads/2025/01/IMG_4974-a5843cdb8c9007cbea8dff98081b0999.webp
END:VEVENT
BEGIN:VEVENT
DTSTART;TZID=UTC:20250315T080000
DTEND;TZID=UTC:20250315T093000
DTSTAMP:20260419T210236
CREATED:20250125T010551Z
LAST-MODIFIED:20250129T101004Z
UID:10006866-1742025600-1742031000@heartlandlakescommunitycalendar.com
SUMMARY:Menahga Ruby's Pantry Distribution Day
DESCRIPTION:THIRD SATURDAY OF EVERY MONTH!\nShares will be sold no earlier than 7am\nLine up in the Menahga High School parking lot.\nThere is no income or residency requirement to attend Ruby’s Pantry. Anyone that eats is welcome to attend! Ruby’s Pantry is a great way to extend your monthly grocery budget.\nThere is a $25.00 per share donation. Please bring cash and have exact change for the site location. Please also make sure your trunks are free and clear so that you can quickly load directly into your trunks.\nHope to see you there
URL:https://heartlandlakescommunitycalendar.com/index.php/event/menahga-rubys-pantry-distribution-day/2025-03-15/
LOCATION:Menahga Public School\, 216 Aspen Ave S\, Menahga\, 56464\, United States
CATEGORIES:Social
ATTACH;FMTTYPE=image/webp:https://heartlandlakescommunitycalendar.com/wp-content/uploads/2025/01/IMG_4974-a5843cdb8c9007cbea8dff98081b0999.webp
END:VEVENT
BEGIN:VEVENT
DTSTART;TZID=UTC:20250215T080000
DTEND;TZID=UTC:20250215T093000
DTSTAMP:20260419T210236
CREATED:20250125T010551Z
LAST-MODIFIED:20250129T101004Z
UID:10006865-1739606400-1739611800@heartlandlakescommunitycalendar.com
SUMMARY:Menahga Ruby's Pantry Distribution Day
DESCRIPTION:THIRD SATURDAY OF EVERY MONTH!\nShares will be sold no earlier than 7am\nLine up in the Menahga High School parking lot.\nThere is no income or residency requirement to attend Ruby’s Pantry. Anyone that eats is welcome to attend! Ruby’s Pantry is a great way to extend your monthly grocery budget.\nThere is a $25.00 per share donation. Please bring cash and have exact change for the site location. Please also make sure your trunks are free and clear so that you can quickly load directly into your trunks.\nHope to see you there
URL:https://heartlandlakescommunitycalendar.com/index.php/event/menahga-rubys-pantry-distribution-day/2025-02-15/
LOCATION:Menahga Public School\, 216 Aspen Ave S\, Menahga\, 56464\, United States
CATEGORIES:Social
ATTACH;FMTTYPE=image/webp:https://heartlandlakescommunitycalendar.com/wp-content/uploads/2025/01/IMG_4974-a5843cdb8c9007cbea8dff98081b0999.webp
END:VEVENT
END:VCALENDAR