BEGIN:VCALENDAR
VERSION:2.0
PRODID:-//The Heartland Lakes Community Calendar - ECPv6.3.7//NONSGML v1.0//EN
CALSCALE:GREGORIAN
METHOD:PUBLISH
X-ORIGINAL-URL:https://heartlandlakescommunitycalendar.com
X-WR-CALDESC:Events for The Heartland Lakes Community Calendar
REFRESH-INTERVAL;VALUE=DURATION:PT1H
X-Robots-Tag:noindex
X-PUBLISHED-TTL:PT1H
BEGIN:VTIMEZONE
TZID:America/New_York
BEGIN:DAYLIGHT
TZOFFSETFROM:-0500
TZOFFSETTO:-0400
TZNAME:EDT
DTSTART:20250309T070000
END:DAYLIGHT
BEGIN:STANDARD
TZOFFSETFROM:-0400
TZOFFSETTO:-0500
TZNAME:EST
DTSTART:20251102T060000
END:STANDARD
TZID:UTC
BEGIN:STANDARD
TZOFFSETFROM:+0000
TZOFFSETTO:+0000
TZNAME:UTC
DTSTART:20250101T000000
END:STANDARD
END:VTIMEZONE
BEGIN:VEVENT
DTSTART;TZID=America/New_York:20250819T140000
DTEND;TZID=America/New_York:20250819T160000
DTSTAMP:20260420T091747
CREATED:20250721T174039Z
LAST-MODIFIED:20250721T174039Z
UID:10010205-1755612000-1755619200@heartlandlakescommunitycalendar.com
SUMMARY:Community Ice Cream Social
DESCRIPTION:You’re Invited!\nJoin us for a community ice cream social. It’s an opportunity to have a cool treat\, enter to win door prizes and play yard games at your hometown clinic.\nThis event is free and open to the public.
URL:https://heartlandlakescommunitycalendar.com/index.php/event/community-ice-cream-social/
LOCATION:Sanford Clinic\, 110 7th St W\, Park Rapids\, MN\, 56470\, United States
CATEGORIES:Culinary,Social
END:VEVENT
BEGIN:VEVENT
DTSTART;TZID=UTC:20250410T140000
DTEND;TZID=UTC:20250410T160000
DTSTAMP:20260420T091747
CREATED:20250407T130045Z
LAST-MODIFIED:20250407T130045Z
UID:10008233-1744293600-1744300800@heartlandlakescommunitycalendar.com
SUMMARY:Drawing for Goodies - Week of the Young Child
DESCRIPTION:Celebrate the Week of the Young Child with Park Rapids Community Ed and area businesses! Kids can bring in a drawing of their doctor and receive some goodies at Sanford Clinic! \n 
URL:https://heartlandlakescommunitycalendar.com/index.php/event/drawing-for-goodies-week-of-the-young-child/2025-04-10/2/
LOCATION:Sanford Clinic\, 110 7th St W\, Park Rapids\, MN\, 56470\, United States
CATEGORIES:Holiday,Social
END:VEVENT
BEGIN:VEVENT
DTSTART;TZID=UTC:20250410T090000
DTEND;TZID=UTC:20250410T110000
DTSTAMP:20260420T091747
CREATED:20250407T130045Z
LAST-MODIFIED:20250407T130045Z
UID:10008232-1744275600-1744282800@heartlandlakescommunitycalendar.com
SUMMARY:Drawing for Goodies - Week of the Young Child
DESCRIPTION:Celebrate the Week of the Young Child with Park Rapids Community Ed and area businesses! Kids can bring in a drawing of their doctor and receive some goodies at Sanford Clinic! \n 
URL:https://heartlandlakescommunitycalendar.com/index.php/event/drawing-for-goodies-week-of-the-young-child/2025-04-10/1/
LOCATION:Sanford Clinic\, 110 7th St W\, Park Rapids\, MN\, 56470\, United States
CATEGORIES:Holiday,Social
END:VEVENT
END:VCALENDAR